BEGIN:VCALENDAR
PRODID:-//github.com/rianjs/ical.net//NONSGML ical.net 4.0//EN
VERSION:2.0
BEGIN:VEVENT
DESCRIPTION:Details:\nhttps://bbyo.org/bbyo-near-you/regions/greater-atlan
 ta-region/sandy-springs-summer-program-info-night
DTEND:20240917T200000
DTSTAMP:20260419T155728Z
DTSTART:20240917T190000
LOCATION:
SEQUENCE:0
SUMMARY:Sandy Springs Summer Program Info Night
UID:e48b7ad1-8746-427a-9143-6e4ef55213e8
END:VEVENT
END:VCALENDAR
