BEGIN:VCALENDAR
PRODID:-//github.com/rianjs/ical.net//NONSGML ical.net 4.0//EN
VERSION:2.0
BEGIN:VEVENT
DESCRIPTION:Details:\nhttps://bbyo.org/bbyo-near-you/regions/south-jersey-
 region/sjr-conclave-2023\n\nSummary:\nJoin SJR for Conclave 2023 for our 
 first full weekend overnight convention of the year! We can’t wait to com
 e together to celebrate Global Shabbat\, hear from impressive speakers\, 
 and dance the night away. Join us at Camp Harlam on November 17-19th!
DTEND:20231119T130000
DTSTAMP:20260420T132611Z
DTSTART:20231117T150000
LOCATION:Kunkletown Pennsylvania
SEQUENCE:0
SUMMARY:SJR Conclave 2023
UID:7f09d028-5cc7-47f7-a3a9-c2736811d609
END:VEVENT
END:VCALENDAR
