BEGIN:VCALENDAR
PRODID:-//github.com/rianjs/ical.net//NONSGML ical.net 4.0//EN
VERSION:2.0
BEGIN:VEVENT
DESCRIPTION:Details:\nhttps://bbyo.org/bbyo-near-you/regions/north-texas-o
 klahoma-region/nto-summer-info-meeting
DTEND:20221027T210000
DTSTAMP:20260422T035038Z
DTSTART:20221027T200000
LOCATION:Zoom Call
SEQUENCE:0
SUMMARY:NTO Summer Info Meeting
UID:cafbd7ec-6327-4fa6-8394-969d64cae40e
END:VEVENT
END:VCALENDAR
