BEGIN:VCALENDAR
PRODID:-//github.com/rianjs/ical.net//NONSGML ical.net 4.0//EN
VERSION:2.0
BEGIN:VEVENT
DESCRIPTION:Details:\nhttps://bbyo.org/bbyo-near-you/regions/northern-regi
 on-east-baltimore-council/baltimore-council-ic-registration-party-2016-(\
 n\nSummary:\nJoin Baltimore Council as we gather to register for AZABBGIC
 17 in Dallas! Registration opens at 8 pm EST - more information on IC can
  be found here: http://azabbgic.bbyo.org
DTEND:20160927T204500
DTSTAMP:20260424T150409Z
DTSTART:20160927T194500
LOCATION:Sam Brown's
SEQUENCE:0
SUMMARY:Baltimore Council - IC Registration Party 2016 - (PC5000)
UID:a81b0a7f-76e4-4831-b848-7683264a0f81
END:VEVENT
END:VCALENDAR
