BEGIN:VCALENDAR
PRODID:-//github.com/rianjs/ical.net//NONSGML ical.net 4.0//EN
VERSION:2.0
BEGIN:VEVENT
DESCRIPTION:Details:\nhttps://bbyo.org/bbyo-near-you/regions/delta-region/
 cotton-nashville-shabbat
DTEND:20170519T000100
DTSTAMP:20260421T002245Z
DTSTART;VALUE=DATE:20170519
LOCATION:
SEQUENCE:0
SUMMARY:Cotton-Nashville Shabbat
UID:8ffcfcc1-3828-4dd5-9888-cda6adc7e171
END:VEVENT
END:VCALENDAR
