BEGIN:VCALENDAR
PRODID:-//github.com/rianjs/ical.net//NONSGML ical.net 4.0//EN
VERSION:2.0
BEGIN:VEVENT
DESCRIPTION:Details:\nhttps://bbyo.org/bbyo-near-you/regions/northern-regi
 on-east-baltimore-council/nre-s-regional-convention-(rc)-2021-special-roo
 m
DTEND:20211107T140000
DTSTAMP:20260425T182955Z
DTSTART:20211105T170000
LOCATION:
SEQUENCE:0
SUMMARY:NRE's Regional Convention (RC) 2021 - Limited Roommate Pricing
UID:f429d87b-1a11-40f8-9e3c-2024e2dbf8e2
END:VEVENT
END:VCALENDAR
