BEGIN:VCALENDAR
PRODID:-//github.com/rianjs/ical.net//NONSGML ical.net 4.0//EN
VERSION:2.0
BEGIN:VEVENT
DESCRIPTION:Details:\nhttps://bbyo.org/bbyo-near-you/regions/north-florida
 -region/mishpacha/mishpacha-and-negev-spring-2020-meeting-calendar\n\nSum
 mary:\nMishpacha BBG and Negev AZA meetings are held almost every Wednesd
 ay during the school year. Most meetings are held at the Jewish Federatio
 n from 6:30-7:00pm\, followed by a program from 7:00
DTEND;VALUE=DATE:20200629
DTSTAMP:20260419T122907Z
DTSTART:20200613T092300
LOCATION:Naples Florida
SEQUENCE:0
SUMMARY:Mishpacha and Negev Spring 2020 Meeting Calendar
UID:315397d3-ce3b-441d-9833-922b09964f5f
END:VEVENT
END:VCALENDAR
