BEGIN:VCALENDAR
PRODID:-//github.com/rianjs/ical.net//NONSGML ical.net 4.0//EN
VERSION:2.0
BEGIN:VEVENT
DESCRIPTION:Details:\nhttps://bbyo.org/bbyo-near-you/regions/kentucky-indi
 ana-ohio-region/kio-morim-network-call-april
DTEND:20210411T210000
DTSTAMP:20260420T100513Z
DTSTART:20210411T200000
LOCATION:
SEQUENCE:0
SUMMARY:KIO Morim Network Call- April
UID:89493442-c9b0-4d26-9c9e-7f3701a5a188
END:VEVENT
END:VCALENDAR
