BEGIN:VCALENDAR
PRODID:-//github.com/rianjs/ical.net//NONSGML ical.net 4.0//EN
VERSION:2.0
BEGIN:VEVENT
DESCRIPTION:Details:\nhttps://bbyo.org/bbyo-near-you/regions/mid-america-r
 egion-kansas-city-council/mid-term-lti\n\nSummary:\nTraining is open to a
 ll BBYO members interested in learning and growing! There will be a few d
 ifferent topics.
DTEND:20181007T150000
DTSTAMP:20260424T170811Z
DTSTART:20181007T130000
LOCATION:Overland Park Kansas
SEQUENCE:0
SUMMARY:Mid-Term LTI
UID:95e95e56-f4f4-4327-9eac-c2ef21d278db
END:VEVENT
END:VCALENDAR
