BEGIN:VCALENDAR
PRODID:-//github.com/rianjs/ical.net//NONSGML ical.net 4.0//EN
VERSION:2.0
BEGIN:VEVENT
DESCRIPTION:Details:\nhttps://bbyo.org/bbyo-near-you/regions/evergreen-reg
 ion/portland-meeting
DTEND;VALUE=DATE:20151117
DTSTAMP:20260425T183357Z
DTSTART;VALUE=DATE:20151117
LOCATION:
SEQUENCE:0
SUMMARY:Portland Meeting
UID:cdb86116-3482-43ee-ae91-9375eba8f082
END:VEVENT
END:VCALENDAR
