BEGIN:VCALENDAR
PRODID:-//github.com/rianjs/ical.net//NONSGML ical.net 4.0//EN
VERSION:2.0
BEGIN:VEVENT
DESCRIPTION:Details:\nhttps://bbyo.org/bbyo-near-you/regions/north-florida
 -region/regional-execs
DTEND:20220123T173000
DTSTAMP:20260420T102411Z
DTSTART:20220123T160000
LOCATION:Zoom
SEQUENCE:0
SUMMARY:Regional Execs
UID:b0b4ea2e-8c89-489f-8533-f7fe20b1917f
END:VEVENT
END:VCALENDAR
