BEGIN:VCALENDAR
PRODID:-//github.com/rianjs/ical.net//NONSGML ical.net 4.0//EN
VERSION:2.0
BEGIN:VEVENT
DESCRIPTION:Details:\nhttps://bbyo.org/bbyo-near-you/regions/north-texas-o
 klahoma-region/azaa-bbgg-basketball-week-2
DTEND:20220306T180000
DTSTAMP:20260423T115354Z
DTSTART:20220306T150000
LOCATION:Dallas Texas
SEQUENCE:0
SUMMARY:AZAA + BBGG Basketball: Week 2
UID:137de593-6e0a-4d6a-b6ac-8bce1c12095b
END:VEVENT
END:VCALENDAR
