BEGIN:VCALENDAR
PRODID:-//github.com/rianjs/ical.net//NONSGML ical.net 4.0//EN
VERSION:2.0
BEGIN:VEVENT
DESCRIPTION:Details:\nhttps://bbyo.org/bbyo-near-you/regions/northern-regi
 on-east-baltimore-council/nrebalt-fall-kickoff-2017
DTEND:20170924T000100
DTSTAMP:20260419T145929Z
DTSTART;VALUE=DATE:20170924
LOCATION:
SEQUENCE:0
SUMMARY:NREBalt-Fall Kickoff 2017
UID:2481fe06-686b-4eb2-8ef6-adb585a9064f
END:VEVENT
END:VCALENDAR
