BEGIN:VCALENDAR
PRODID:-//github.com/rianjs/ical.net//NONSGML ical.net 4.0//EN
VERSION:2.0
BEGIN:VEVENT
DESCRIPTION:Details:\nhttps://bbyo.org/bbyo-near-you/regions/eastern-regio
 n/eastern-regional-execs-convention-council-boar-(1)
DTEND;VALUE=DATE:20170820
DTSTAMP:20260419T122709Z
DTSTART;VALUE=DATE:20170818
LOCATION:
SEQUENCE:0
SUMMARY:Eastern-Regional Execs Convention-Council Board Training
UID:000545e3-5f29-48a4-882b-8ad83778902e
END:VEVENT
END:VCALENDAR
