BEGIN:VCALENDAR
PRODID:-//github.com/rianjs/ical.net//NONSGML ical.net 4.0//EN
VERSION:2.0
BEGIN:VEVENT
DESCRIPTION:Details:\nhttps://bbyo.org/bbyo-near-you/regions/nassau-suffol
 k-region/nassau-suffolk-region-virtual-spring-convention-20\n\nSummary:\n
 NSR Spring Convention isn't cancelled - it's just online! In these challe
 nging and uncertain times\, we're excited to be able to present the Sprin
 g Convention experience for our community!
DTEND:20200517T161000
DTSTAMP:20260422T221334Z
DTSTART:20200517T160000
LOCATION:
SEQUENCE:0
SUMMARY:Nassau Suffolk Region Virtual Spring Convention 2020
UID:c9073f95-27c3-48b2-836b-fa1f0c81076a
END:VEVENT
END:VCALENDAR
