BEGIN:VCALENDAR
PRODID:-//github.com/rianjs/ical.net//NONSGML ical.net 4.0//EN
VERSION:2.0
BEGIN:VEVENT
DESCRIPTION:Details:\nhttps://bbyo.org/bbyo-near-you/regions/rocky-mountai
 n-region/givingbbyoday-ambassador-training
DTEND:20221114T200000
DTSTAMP:20260421T094207Z
DTSTART:20221114T190000
LOCATION:ZOOM
SEQUENCE:0
SUMMARY:#givingBBYOday Ambassador Training
UID:2abf43b1-c5ba-47fe-b0ed-cbd9ddb216da
END:VEVENT
END:VCALENDAR
