BEGIN:VCALENDAR
PRODID:-//github.com/rianjs/ical.net//NONSGML ical.net 4.0//EN
VERSION:2.0
BEGIN:VEVENT
DESCRIPTION:Details:\nhttps://bbyo.org/bbyo-near-you/regions/evergreen-reg
 ion/evergreen-region-l-dor-v-dor-convention-2016-(pc\n\nSummary:\nJoin us
  for our biggest and best convention of the year! We will welcome new mem
 bers into our Evergreen Region family\, and honor the seniors who are gra
 duating! \n\nGet ready for the most ex
DTEND:20160403T110000
DTSTAMP:20260423T093340Z
DTSTART:20160401T160000
LOCATION:Camp Solomon Schechter
SEQUENCE:0
SUMMARY:Evergreen Region- L'dor V'dor Convention 2016 (PC 3020)
UID:b051f303-158b-4494-9b62-982e2ffc558f
END:VEVENT
END:VCALENDAR
