BEGIN:VCALENDAR
PRODID:-//github.com/rianjs/ical.net//NONSGML ical.net 4.0//EN
VERSION:2.0
BEGIN:VEVENT
DESCRIPTION:Details:\nhttps://bbyo.org/bbyo-near-you/regions/north-texas-o
 klahoma-region/fall-convention-steering-meeting-3
DTEND:20211003T180000
DTSTAMP:20260425T235215Z
DTSTART:20211003T170000
LOCATION:Zoom
SEQUENCE:0
SUMMARY:Fall Convention Steering Meeting 3
UID:cd9c594f-dccf-46f0-8c0c-fe86ef7c70b9
END:VEVENT
END:VCALENDAR
