BEGIN:VCALENDAR
PRODID:-//github.com/rianjs/ical.net//NONSGML ical.net 4.0//EN
VERSION:2.0
BEGIN:VEVENT
DESCRIPTION:Details:\nhttps://bbyo.org/bbyo-near-you/regions/keystone-moun
 tain-region/kmr-execs
DTEND:20240929T170000
DTSTAMP:20260423T154315Z
DTSTART:20240929T133000
LOCATION:JCC
SEQUENCE:0
SUMMARY:KMR Execs
UID:7af58aa3-b11f-441d-ae50-d9d7e5ae5c65
END:VEVENT
END:VCALENDAR
