BEGIN:VCALENDAR
PRODID:-//github.com/rianjs/ical.net//NONSGML ical.net 4.0//EN
VERSION:2.0
BEGIN:VEVENT
DESCRIPTION:Details:\nhttps://bbyo.org/bbyo-near-you/regions/ohio-northern
 -region/onr-spirit-convention
DTEND;VALUE=DATE:20180128
DTSTAMP:20260424T214020Z
DTSTART;VALUE=DATE:20180126
LOCATION:
SEQUENCE:0
SUMMARY:ONR Spirit Convention
UID:ca18cf5b-0072-460c-8e4a-546c0b258cf6
END:VEVENT
END:VCALENDAR
