BEGIN:VCALENDAR
PRODID:-//github.com/rianjs/ical.net//NONSGML ical.net 4.0//EN
VERSION:2.0
BEGIN:VEVENT
DESCRIPTION:Details:\nhttps://bbyo.org/bbyo-near-you/regions/northern-regi
 on-east-dc-council/azaa-flag-football-kickoff\n\nSummary:\n \n\nSign up t
 o compete for the coveted AZAA Flag Football Championship title! The tour
 nament will be held over the course of six weeks and anyone can play (as 
 long as they have a filled out s
DTEND:20180916T120000
DTSTAMP:20260424T003933Z
DTSTART:20180916T093000
LOCATION:Rockville Maryland
SEQUENCE:0
SUMMARY:AZAA Flag Football Kickoff
UID:6bf3e43c-245a-49eb-b38a-e4544f2b9c1b
END:VEVENT
END:VCALENDAR
