BEGIN:VCALENDAR
PRODID:-//github.com/rianjs/ical.net//NONSGML ical.net 4.0//EN
VERSION:2.0
BEGIN:VEVENT
DESCRIPTION:Details:\nhttps://bbyo.org/bbyo-near-you/regions/northern-regi
 on-east-dc-council/azaa-day-(1)
DTEND:20230319T150000
DTSTAMP:20260423T042647Z
DTSTART:20230319T120000
LOCATION:Bender JCC
SEQUENCE:0
SUMMARY:AZAA Day
UID:b961352e-c558-4b87-9a7f-970ee0e97b48
END:VEVENT
END:VCALENDAR
