BEGIN:VCALENDAR
PRODID:-//github.com/rianjs/ical.net//NONSGML ical.net 4.0//EN
VERSION:2.0
BEGIN:VEVENT
DESCRIPTION:Details:\nhttps://bbyo.org/bbyo-near-you/regions/michigan-regi
 on/tzavah/tzavah-fall-bittker-(1)
DTEND:20231015T110000
DTSTAMP:20260421T051115Z
DTSTART:20231013T173000
LOCATION:Holly Michigan
SEQUENCE:0
SUMMARY:Tzavah Fall Bittker
UID:32560161-9398-4d06-8794-c110f1e535f0
END:VEVENT
END:VCALENDAR
