BEGIN:VCALENDAR
PRODID:-//github.com/rianjs/ical.net//NONSGML ical.net 4.0//EN
VERSION:2.0
BEGIN:VEVENT
DESCRIPTION:Details:\nhttps://bbyo.org/bbyo-near-you/regions/hudson-valley
 -region/bowling-into-the-election\n\nSummary:\nCome to Westchester's Elec
 tion Watch Party!!
DTEND:20161108T200000
DTSTAMP:20260424T102058Z
DTSTART:20161108T180000
LOCATION:
SEQUENCE:0
SUMMARY:Bowling into the Election
UID:c321f585-744a-440a-aba1-31ab6f6bae9b
END:VEVENT
END:VCALENDAR
