BEGIN:VCALENDAR
PRODID:-//github.com/rianjs/ical.net//NONSGML ical.net 4.0//EN
VERSION:2.0
BEGIN:VEVENT
DESCRIPTION:Details:\nhttps://bbyo.org/bbyo-near-you/regions/mid-america-r
 egion-kansas-city-council/aza-founder-s-day-celebration\n\nSummary:\nWe w
 ill travel to Wichita\, KS. There\, we will meet up with our Wichita chap
 ter members as well as Omaha. We will join them for Friday night services
  and will finish the night off with a lock-in at their local synagogue.\n
 After Saturday morning services\, we will venture to the depths of the Ea
 rth at the Strataca Salt Mine and natural archive of movie props. Then we
  will travel beyond the stars at the Cosmosphere\, a space science museum
 . We will wrap up that evening with Havdalah at Keeper of the Plains. Thi
 s program is for 9-12 grade Alephs.
DTEND:20190504T230000
DTSTAMP:20260423T042652Z
DTSTART:20190503T160000
LOCATION:Wichita Kansas
SEQUENCE:0
SUMMARY:AZA Founder's Day Celebration
UID:2deb116c-d6fe-408a-84e7-820066d1ff05
END:VEVENT
END:VCALENDAR
