BEGIN:VCALENDAR
PRODID:-//github.com/rianjs/ical.net//NONSGML ical.net 4.0//EN
VERSION:2.0
BEGIN:VEVENT
DESCRIPTION:Details:\nhttps://bbyo.org/bbyo-near-you/regions/miami-region/
 cookie-dec
DTEND:20230913T220000
DTSTAMP:20260425T193227Z
DTSTART:20230913T210000
LOCATION:miami Florida
SEQUENCE:0
SUMMARY:Cookie Dec
UID:ab7482ca-ae3e-4efa-b3b7-f7d16cb8e34f
END:VEVENT
END:VCALENDAR
