BEGIN:VCALENDAR
PRODID:-//github.com/rianjs/ical.net//NONSGML ical.net 4.0//EN
VERSION:2.0
BEGIN:VEVENT
DESCRIPTION:Details:\nhttps://bbyo.org/bbyo-near-you/regions/nassau-suffol
 k-region/nsr-winter-convention-2016-(3000)\n\nSummary:\nWeekend conventio
 n filled with meaningful experiences\, while meeting other 9th-12th grade
  teens from all over Long Island.\nFee: $345 \nCancellation policy: Absol
 utely no refunds w
DTEND;VALUE=DATE:20161204
DTSTAMP:20260420T132401Z
DTSTART;VALUE=DATE:20161202
LOCATION:Kerhonkson
SEQUENCE:0
SUMMARY:NSR Winter Convention 2016 (3000)
UID:4ee07115-5089-46c4-af8e-39c0ca4afec5
END:VEVENT
END:VCALENDAR
