BEGIN:VCALENDAR
PRODID:-//github.com/rianjs/ical.net//NONSGML ical.net 4.0//EN
VERSION:2.0
BEGIN:VEVENT
DESCRIPTION:Details:\nhttps://bbyo.org/bbyo-near-you/regions/michigan-regi
 on/bbyo-connect-at-rc-vip-at-talent-show-(pc-5110)
DTEND:20151228T220000
DTSTAMP:20260421T223735Z
DTSTART:20151228T200000
LOCATION:Temple Israel
SEQUENCE:0
SUMMARY:BBYO Connect at RC: VIP at Talent Show (PC:5110)
UID:d4657454-301d-4695-9ffe-ca95fcc1bbc3
END:VEVENT
END:VCALENDAR
