BEGIN:VCALENDAR
PRODID:-//github.com/rianjs/ical.net//NONSGML ical.net 4.0//EN
VERSION:2.0
BEGIN:VEVENT
DESCRIPTION:Details:\nhttps://bbyo.org/bbyo-near-you/regions/ohio-northern
 -region/mandel-jds-channukah-visit
DTEND:20151112T110000
DTSTAMP:20260424T105947Z
DTSTART:20151112T100000
LOCATION:Mandel JDS
SEQUENCE:0
SUMMARY:Mandel JDS Channukah Visit
UID:eb3b25c3-51ed-45f9-b887-f69d02c94f28
END:VEVENT
END:VCALENDAR
