BEGIN:VCALENDAR
PRODID:-//github.com/rianjs/ical.net//NONSGML ical.net 4.0//EN
VERSION:2.0
BEGIN:VEVENT
DESCRIPTION:Details:\nhttps://bbyo.org/bbyo-near-you/regions/eastern-regio
 n/eastern-region-spring-convention-(1)
DTEND:20240331T140000
DTSTAMP:20260424T092449Z
DTSTART:20240329T170000
LOCATION:
SEQUENCE:0
SUMMARY:Eastern Region Spring Convention
UID:bd054daa-6d2f-4692-b0cd-cfd08ce722d3
END:VEVENT
END:VCALENDAR
