BEGIN:VCALENDAR
PRODID:-//github.com/rianjs/ical.net//NONSGML ical.net 4.0//EN
VERSION:2.0
BEGIN:VEVENT
DESCRIPTION:Details:\nhttps://bbyo.org/bbyo-near-you/regions/greater-jerse
 y-region/gjhrr-2019-kick-off-dance-clark-bus-event\n\nSummary:\nJoin GJHR
 R for our annual Kick-Off Dance on Saturday\, October 5th.  The dance wil
 l be held in Whippany from 7:00pm-10:00pm!\n\nKick-Off the new BBYO year 
 with music\, friends\, fun and snacks!  Chapters will be selling BBYO swa
 g at the dance! The theme will be announced at RLTI!\n\nDance Cost: $42 (
 BUS & DANCE) \nWhen: October 5th\, 7-10pm\nWhere: Whippany\, NJ\n\nThere 
 will be no refunds provided for this dance. There will be no dinner serve
 d at this event. \n\nPlease remember no water bottles\, backpacks\, or ju
 uls will be permitted in the dance or on the bus.\n\n**PLEASE NOTE** When
  your child attends any dance or convention\, we must be notified (by ema
 il) in advance if they are arriving late or leaving early.  If you are al
 lowing your child to be picked up  by someone other than yourself or thei
 r guardian\, we must be notified (via email) in advance who is picking yo
 ur child up and at what time. Additionally\, if your child is scheduled t
 o ride a bus in both directions\, but you will now be dropping them off o
 r picking them up instead\, we must be notified (via email) in advance wi
 th that information.\n\nIf your child is being picked up on time\, you do
  not need to notify us.\n\nOur highest priority is the safety\, security 
 and well-being of your child.\n\nFor Questions: Please direct to Amy Gers
 on at agerson@bbyo.org.
DTEND:20191005T220000
DTSTAMP:20260420T111150Z
DTSTART:20191005T190000
LOCATION:Whippany
SEQUENCE:0
SUMMARY:GJHRR 2019 Kick-off Dance - CLARK BUS + EVENT
UID:aebdabec-5e5f-4406-b388-b98b48b7c669
END:VEVENT
END:VCALENDAR
