BEGIN:VCALENDAR
PRODID:-//github.com/rianjs/ical.net//NONSGML ical.net 4.0//EN
VERSION:2.0
BEGIN:VEVENT
DESCRIPTION:Details:\nhttps://bbyo.org/bbyo-near-you/regions/rocky-mountai
 n-region/denver-chapter-meetings-8-22-06
DTEND:20060822T203000
DTSTAMP:20260422T113304Z
DTSTART:20060822T193000
LOCATION:Denver JCC
SEQUENCE:0
SUMMARY:Denver Chapter Meetings 8/22/06
UID:cf166743-00c0-43a1-bd0a-3c1679f68738
END:VEVENT
END:VCALENDAR
