BEGIN:VCALENDAR
PRODID:-//github.com/rianjs/ical.net//NONSGML ical.net 4.0//EN
VERSION:2.0
BEGIN:VEVENT
DESCRIPTION:Details:\nhttps://bbyo.org/bbyo-near-you/regions/evergreen-reg
 ion/cltc-4-(12)\n\nSummary:\nChapter Leadership Training Conference\, CLT
 C\, is designed for AZA and BBG members who want to learn how to build an
 d strengthen their chapter. At CLTC\, teens have fun with peers from acro
DTEND:20160710T090000
DTSTAMP:20260424T165359Z
DTSTART:20160628T090000
LOCATION:Bethany Campus
SEQUENCE:0
SUMMARY:CLTC 4
UID:58e69e48-00f3-4837-9a83-653a625e53a0
END:VEVENT
END:VCALENDAR
