BEGIN:VCALENDAR
PRODID:-//github.com/rianjs/ical.net//NONSGML ical.net 4.0//EN
VERSION:2.0
BEGIN:VEVENT
DESCRIPTION:Details:\nhttps://bbyo.org/bbyo-near-you/regions/kentucky-indi
 ana-ohio-region/kio-debate-nights-2016
DTEND;VALUE=DATE:20161009
DTSTAMP:20260419T213553Z
DTSTART;VALUE=DATE:20161009
LOCATION:
SEQUENCE:0
SUMMARY:KIO Debate Nights 2016
UID:829b3d88-d806-4e63-8e2b-ed853f4700b9
END:VEVENT
END:VCALENDAR
