BEGIN:VCALENDAR
PRODID:-//github.com/rianjs/ical.net//NONSGML ical.net 4.0//EN
VERSION:2.0
BEGIN:VEVENT
DESCRIPTION:Details:\nhttps://bbyo.org/bbyo-near-you/regions/manhattan-reg
 ion/upperclassman-pep-rally
DTEND:20240208T200000
DTSTAMP:20260424T215607Z
DTSTART:20240208T183000
LOCATION:NY New York
SEQUENCE:0
SUMMARY:Upperclassman Pep Rally
UID:44a08f97-afdb-457c-a81a-ca9181d0bd79
END:VEVENT
END:VCALENDAR
