BEGIN:VCALENDAR
PRODID:-//github.com/rianjs/ical.net//NONSGML ical.net 4.0//EN
VERSION:2.0
BEGIN:VEVENT
DESCRIPTION:Details:\nhttps://bbyo.org/bbyo-near-you/regions/nassau-suffol
 k-region/bowling
DTEND;VALUE=DATE:20051218
DTSTAMP:20260425T235103Z
DTSTART;VALUE=DATE:20051218
LOCATION:Plainview Bowl
SEQUENCE:0
SUMMARY:Bowling
UID:ec38ed09-e351-4863-9006-4deceecfa9bc
END:VEVENT
END:VCALENDAR
