BEGIN:VCALENDAR
PRODID:-//github.com/rianjs/ical.net//NONSGML ical.net 4.0//EN
VERSION:2.0
BEGIN:VEVENT
DESCRIPTION:Details:\nhttps://bbyo.org/bbyo-near-you/regions/mid-america-r
 egion-st-louis-council/ryze-mini-golf-and-yard-games-kickoff
DTEND:20240825T160000
DTSTAMP:20260421T163616Z
DTSTART:20240825T140000
LOCATION:Ryze Adventure Park
SEQUENCE:0
SUMMARY:Ryze: Mini Golf and Yard Games Kickoff
UID:ad8d37c5-2633-4e55-af71-b309c36cbe2a
END:VEVENT
END:VCALENDAR
