BEGIN:VCALENDAR
PRODID:-//github.com/rianjs/ical.net//NONSGML ical.net 4.0//EN
VERSION:2.0
BEGIN:VEVENT
DESCRIPTION:Details:\nhttps://bbyo.org/bbyo-near-you/regions/pacific-weste
 rn-region/pwr-bbg-s-self-confidence-empowerment-program-with\n\nSummary:\
 nJoin Kochavim BBG for a program with the BBG's of PWR and Dance Moms sta
 r Christi Lukasiak for a self-confidence and empowerment discussion follo
 wed by a Q&A!
DTEND:20210113T200000
DTSTAMP:20260421T043109Z
DTSTART:20210113T190000
LOCATION:Zoom
SEQUENCE:0
SUMMARY:PWR BBG's Self-Confidence & Empowerment Program with Christi Lukas
 iak
UID:2f5b8561-e2d7-49cc-8f6a-d4ea7f5d8b71
END:VEVENT
END:VCALENDAR
