BEGIN:VCALENDAR
PRODID:-//github.com/rianjs/ical.net//NONSGML ical.net 4.0//EN
VERSION:2.0
BEGIN:VEVENT
DESCRIPTION:Details:\nhttps://bbyo.org/bbyo-near-you/regions/central-regio
 n-west/bus-only-crw-beau-on-a-boat
DTEND:20220319T230000
DTSTAMP:20260423T002201Z
DTSTART:20220319T171500
LOCATION:
SEQUENCE:0
SUMMARY:BUS ONLY - CRW Beau on a Boat
UID:db889e38-dbd2-488d-be02-ec2607a04ec0
END:VEVENT
END:VCALENDAR
