BEGIN:VCALENDAR
PRODID:-//github.com/rianjs/ical.net//NONSGML ical.net 4.0//EN
VERSION:2.0
BEGIN:VEVENT
DESCRIPTION:Details:\nhttps://bbyo.org/bbyo-near-you/regions/hudson-valley
 -region/hvr-centennial-ic-launch-night
DTEND:20230928T210000
DTSTAMP:20260422T113350Z
DTSTART:20230928T190000
LOCATION:Scarsdale New York
SEQUENCE:0
SUMMARY:HVR Centennial IC Launch Night
UID:7c050330-b567-43ff-a550-9d96fe79c19f
END:VEVENT
END:VCALENDAR
