BEGIN:VCALENDAR
PRODID:-//github.com/rianjs/ical.net//NONSGML ical.net 4.0//EN
VERSION:2.0
BEGIN:VEVENT
DESCRIPTION:Details:\nhttps://bbyo.org/bbyo-near-you/regions/greater-jerse
 y-region/northern-council-chapter-board-training\n\nSummary:\nChapter Boa
 rd Training for NORTHERN COUNCIL.  Mandatory for all teens holding a chap
 ter board position. If you are unable to make this meeting\, you must let
  your Council counterpart and Judi
DTEND:20160918T130000
DTSTAMP:20260422T113308Z
DTSTART:20160918T100000
LOCATION:Temple Beth Tikvah
SEQUENCE:0
SUMMARY:NORTHERN COUNCIL Chapter Board Training
UID:b21454ea-71e8-4d55-8c2f-737adbafd41e
END:VEVENT
END:VCALENDAR
