BEGIN:VCALENDAR
PRODID:-//github.com/rianjs/ical.net//NONSGML ical.net 4.0//EN
VERSION:2.0
BEGIN:VEVENT
DESCRIPTION:Details:\nhttps://bbyo.org/bbyo-near-you/regions/connecticut-v
 alley-region/cvr-rlti-summer-b-yachad-(regional-board-only)
DTEND;VALUE=DATE:20180826
DTSTAMP:20260425T183027Z
DTSTART;VALUE=DATE:20180821
LOCATION:Windsor Locks Connecticut
SEQUENCE:0
SUMMARY:CVR RLTI + Summer B'yachad (Regional Board Only)
UID:ff349da1-fb28-4608-bbff-42cb5dee07c2
END:VEVENT
END:VCALENDAR
