BEGIN:VCALENDAR
PRODID:-//github.com/rianjs/ical.net//NONSGML ical.net 4.0//EN
VERSION:2.0
BEGIN:VEVENT
DESCRIPTION:Details:\nhttps://bbyo.org/bbyo-near-you/regions/keystone-moun
 tain-region/kmr-regional-kickoff-at-zone-28\n\nSummary:\nCome start off a
 nother exciting year for KMR BBYO with a day full of fun\, games and frie
 nds at our annual Regional Kickoff! This year we will be spending the day
  at Zone 28 and we will have
DTEND:20190825T171500
DTSTAMP:20260423T133656Z
DTSTART:20190825T144500
LOCATION:Pittsburgh Pennsylvania
SEQUENCE:0
SUMMARY:KMR Regional Kickoff at Zone 28
UID:f12a8e99-206d-44d0-85dc-ac9362a4eb6d
END:VEVENT
END:VCALENDAR
