BEGIN:VCALENDAR
PRODID:-//github.com/rianjs/ical.net//NONSGML ical.net 4.0//EN
VERSION:2.0
BEGIN:VEVENT
DESCRIPTION:Details:\nhttps://bbyo.org/bbyo-near-you/regions/central-regio
 n-west/crw-global-shabbat-(1)
DTEND:20231208T204500
DTSTAMP:20260421T163615Z
DTSTART:20231208T183000
LOCATION:Los Gatos California
SEQUENCE:0
SUMMARY:CRW Global Shabbat
UID:c1020af9-f9e6-4586-af61-177d6f0b5ef8
END:VEVENT
END:VCALENDAR
