BEGIN:VCALENDAR
PRODID:-//github.com/rianjs/ical.net//NONSGML ical.net 4.0//EN
VERSION:2.0
BEGIN:VEVENT
DESCRIPTION:Details:\nhttps://bbyo.org/bbyo-near-you/regions/michigan-regi
 on/mba-aerial-yoga-at-5-15pm
DTEND:20220201T183000
DTSTAMP:20260424T063713Z
DTSTART:20220201T171500
LOCATION:Yoga Shelter (Southfield): 20300 Civic Center Dr #118\, Southfiel
 d\, MI 48076
SEQUENCE:0
SUMMARY:MBA Aerial Yoga at 5:15pm
UID:bc1cd457-22c8-4a4c-a642-83f3391e262d
END:VEVENT
END:VCALENDAR
