BEGIN:VCALENDAR
PRODID:-//github.com/rianjs/ical.net//NONSGML ical.net 4.0//EN
VERSION:2.0
BEGIN:VEVENT
DESCRIPTION:Details:\nhttps://bbyo.org/bbyo-near-you/regions/lonestar-regi
 on/reisbord-azaa-flag-football-league\n\nSummary:\nWe are so excited to b
 e launching our 6 week AZAA Flag Football League!
DTEND:20210523T173000
DTSTAMP:20260423T002725Z
DTSTART:20210410T153000
LOCATION:Godwin Park
SEQUENCE:0
SUMMARY:Reisbord AZAA Flag Football League
UID:599d4418-3829-4806-b595-11839566daec
END:VEVENT
END:VCALENDAR
