BEGIN:VCALENDAR
PRODID:-//github.com/rianjs/ical.net//NONSGML ical.net 4.0//EN
VERSION:2.0
BEGIN:VEVENT
DESCRIPTION:Details:\nhttps://bbyo.org/bbyo-near-you/regions/northern-regi
 on-east-dc-council/dc-at-jcc-maccabi-games-summer-2016
DTEND:20160730T170000
DTSTAMP:20260422T113412Z
DTSTART:20160725T090000
LOCATION:STL
SEQUENCE:0
SUMMARY:DC at JCC Maccabi Games Summer 2016
UID:2c3ae7ce-9c5a-464d-bb32-e5dce1216479
END:VEVENT
END:VCALENDAR
