BEGIN:VCALENDAR
PRODID:-//github.com/rianjs/ical.net//NONSGML ical.net 4.0//EN
VERSION:2.0
BEGIN:VEVENT
DESCRIPTION:Details:\nhttps://bbyo.org/bbyo-near-you/regions/keystone-moun
 tain-region/aza-fantasy-football-draft
DTEND:20220828T160000
DTSTAMP:20260423T002312Z
DTSTART:20220828T133000
LOCATION:Pittsburgh  Pennsylvania
SEQUENCE:0
SUMMARY:AZA Fantasy Football Draft
UID:de588d6c-3fe9-4e97-8684-87c940a64333
END:VEVENT
END:VCALENDAR
