BEGIN:VCALENDAR
PRODID:-//github.com/rianjs/ical.net//NONSGML ical.net 4.0//EN
VERSION:2.0
BEGIN:VEVENT
DESCRIPTION:Details:\nhttps://bbyo.org/bbyo-near-you/regions/eastern-regio
 n/virginia-council-run-off-s-2005-(1)\n\nSummary:\nThe purpose of this co
 nvention is for each individual chapter to work together and develop chap
 ter strength and spirit.  This is a contest convention.  All Virginia AZA
  and BBG chapters will
DTEND:20051113T130000
DTSTAMP:20260424T062940Z
DTSTART:20051111T180000
LOCATION:Weinstein JCC
SEQUENCE:0
SUMMARY:Virginia Council Run Off's 2005
UID:df801257-b187-47c6-88ec-99b4ed94522b
END:VEVENT
END:VCALENDAR
