BEGIN:VCALENDAR
PRODID:-//github.com/rianjs/ical.net//NONSGML ical.net 4.0//EN
VERSION:2.0
BEGIN:VEVENT
DESCRIPTION:Details:\nhttps://bbyo.org/bbyo-near-you/regions/keystone-moun
 tain-region/j-serve-pittsburgh-2019\n\nSummary:\nTo mark the thirteenth y
 ear of J-Serve Pittsburgh\, an annual teen-planned day of service for 6th
 -12th graders throughout the greater Pittsburgh area\, our theme is “Cele
 brating J-Serve Pittsb
DTEND:20190407T150000
DTSTAMP:20260424T222917Z
DTSTART:20190407T100000
LOCATION:pittsburgh Pennsylvania
SEQUENCE:0
SUMMARY:J-Serve Pittsburgh 2019
UID:6f6c2f45-a835-4d01-bd5d-81f75adb26ff
END:VEVENT
END:VCALENDAR
